{
 "currentVersion": 10.81,
 "cimVersion": "2.6.0",
 "serviceDescription": "This map image layer is read only.",
 "mapName": "Map",
 "description": "",
 "copyrightText": "",
 "supportsDynamicLayers": true,
 "layers": [
  {
   "id": 0,
   "name": "1 ft Contours",
   "parentLayerId": -1,
   "defaultVisibility": true,
   "subLayerIds": null,
   "minScale": 0,
   "maxScale": 0,
   "type": "Feature Layer",
   "geometryType": "esriGeometryPolyline",
   "supportsDynamicLegends": true
  }
 ],
 "tables": [],
 "spatialReference": {
  "wkid": 103458,
  "latestWkid": 103458,
  "xyTolerance": 0.00328083333333333,
  "zTolerance": 0.001,
  "mTolerance": 0.001,
  "falseX": -18187000,
  "falseY": -48539200,
  "xyUnits": 3048.00609601219,
  "falseZ": -100000,
  "zUnits": 10000,
  "falseM": -100000,
  "mUnits": 10000
 },
 "singleFusedMapCache": true,
 "tileInfo": {
  "rows": 256,
  "cols": 256,
  "dpi": 96,
  "format": "PNG",
  "compressionQuality": 0,
  "origin": {
   "x": -3.255354617107005E7,
   "y": 1.709229250460601E7
  },
  "spatialReference": {
   "wkid": 103458,
   "latestWkid": 103458,
   "xyTolerance": 0.00328083333333333,
   "zTolerance": 0.001,
   "mTolerance": 0.001,
   "falseX": -18187000,
   "falseY": -48539200,
   "xyUnits": 3048.00609601219,
   "falseZ": -100000,
   "zUnits": 10000,
   "falseM": -100000,
   "mUnits": 10000
  },
  "lods": [
   {
    "level": 0,
    "resolution": 256371.45450835978,
    "scale": 2.9534050627464306E8
   },
   {
    "level": 1,
    "resolution": 128185.72725417989,
    "scale": 1.4767025313732153E8
   },
   {
    "level": 2,
    "resolution": 64092.863627089944,
    "scale": 7.383512656866077E7
   },
   {
    "level": 3,
    "resolution": 32046.431813544972,
    "scale": 3.691756328433038E7
   },
   {
    "level": 4,
    "resolution": 16023.215906772486,
    "scale": 1.845878164216519E7
   },
   {
    "level": 5,
    "resolution": 8011.607953386243,
    "scale": 9229390.821082596
   },
   {
    "level": 6,
    "resolution": 4005.8039766931215,
    "scale": 4614695.410541298
   },
   {
    "level": 7,
    "resolution": 2002.9019883465608,
    "scale": 2307347.705270649
   },
   {
    "level": 8,
    "resolution": 1001.4509941732804,
    "scale": 1153673.8526353245
   },
   {
    "level": 9,
    "resolution": 500.7254970866402,
    "scale": 576836.9263176622
   },
   {
    "level": 10,
    "resolution": 250.3627485433201,
    "scale": 288418.4631588311
   },
   {
    "level": 11,
    "resolution": 125.18137427166005,
    "scale": 144209.23157941556
   },
   {
    "level": 12,
    "resolution": 62.590687135830024,
    "scale": 72104.61578970778
   },
   {
    "level": 13,
    "resolution": 31.295343567915012,
    "scale": 36052.30789485389
   },
   {
    "level": 14,
    "resolution": 15.647671783957506,
    "scale": 18026.153947426945
   },
   {
    "level": 15,
    "resolution": 7.823835891978753,
    "scale": 9013.076973713472
   },
   {
    "level": 16,
    "resolution": 3.9119179459893765,
    "scale": 4506.538486856736
   },
   {
    "level": 17,
    "resolution": 1.9559589729946882,
    "scale": 2253.269243428368
   },
   {
    "level": 18,
    "resolution": 0.9779794864973441,
    "scale": 1126.634621714184
   }
  ]
 },
 "initialExtent": {
  "xmin": 214349.5100393199,
  "ymin": 172155.9973688233,
  "xmax": 218923.54677875785,
  "ymax": 175752.1365984504,
  "spatialReference": {
   "wkid": 103458,
   "latestWkid": 103458,
   "xyTolerance": 0.00328083333333333,
   "zTolerance": 0.001,
   "mTolerance": 0.001,
   "falseX": -18187000,
   "falseY": -48539200,
   "xyUnits": 3048.00609601219,
   "falseZ": -100000,
   "zUnits": 10000,
   "falseM": -100000,
   "mUnits": 10000
  }
 },
 "fullExtent": {
  "xmin": 203895.31787334383,
  "ymin": 145926.62430270016,
  "xmax": 223527.49448817968,
  "ymax": 193499.99995628,
  "spatialReference": {
   "wkid": 103458,
   "latestWkid": 103458,
   "xyTolerance": 0.00328083333333333,
   "zTolerance": 0.001,
   "mTolerance": 0.001,
   "falseX": -18187000,
   "falseY": -48539200,
   "xyUnits": 3048.00609601219,
   "falseZ": -100000,
   "zUnits": 10000,
   "falseM": -100000,
   "mUnits": 10000
  }
 },
 "minScale": 18026.153947426945,
 "maxScale": 1126.634621714184,
 "minLOD": 14,
 "maxLOD": 18,
 "units": "esriFeet",
 "supportedImageFormatTypes": "PNG32,PNG24,PNG,JPG,DIB,TIFF,EMF,PS,PDF,GIF,SVG,SVGZ,BMP",
 "documentInfo": {
  "Title": "Map",
  "Author": "",
  "Comments": "",
  "Subject": "",
  "Category": "",
  "AntialiasingMode": "Fast",
  "TextAntialiasingMode": "Force",
  "Keywords": "Elevation,DPW"
 },
 "supportsQueryDomains": true,
 "capabilities": "Map,Query,Data",
 "supportedQueryFormats": "JSON, geoJSON, PBF",
 "exportTilesAllowed": false,
 "referenceScale": 0.0,
 "datumTransformations": [
  {
   "geoTransforms": [
    {
     "wkid": 1580,
     "latestWkid": 1580,
     "transformForward": false,
     "name": "NAD_1983_HARN_To_WGS_1984"
    }
   ]
  },
  {
   "geoTransforms": [
    {
     "wkid": 1580,
     "latestWkid": 1580,
     "transformForward": true,
     "name": "NAD_1983_HARN_To_WGS_1984"
    }
   ]
  }
 ],
 "supportsDatumTransformation": true,
 "archivingInfo": {
  "supportsHistoricMoment": false
 },
 "supportsClipping": true,
 "supportsSpatialFilter": true,
 "supportsQueryDataElements": true,
 "maxRecordCount": 2000,
 "maxImageHeight": 4096,
 "maxImageWidth": 4096,
 "supportedExtensions": "",
 "resampling": false,
 "serviceItemId": "929fb51e182a4ec7a5a3578eb8971d7e"
}
