View In:
ArcGIS JavaScript
ArcGIS Online Map Viewer
ArcGIS Earth
ArcMap
ArcGIS Pro
View Footprint In:
ArcGIS Online Map Viewer
Service Description:
Map Name: Sheboygan Basemap
Legend
All Layers and Tables
Dynamic Legend
Dynamic All Layers
Layers:
Description:
Service Item Id: 2c8f611c561c4643878d03bef3fd3d18
Copyright Text:
Spatial Reference:
103458
(103458)
Single Fused Map Cache: true
Tile Info:
- Height: 256
- Width: 256
- DPI: 96
-
Levels of Detail: 19
-
Level ID: 0
[ Start Tile, End Tile ]
- Resolution: 256371.45450835978
- Scale: 2.9534050627464306E8
-
Level ID: 1
[ Start Tile, End Tile ]
- Resolution: 128185.72725417989
- Scale: 1.4767025313732153E8
-
Level ID: 2
[ Start Tile, End Tile ]
- Resolution: 64092.863627089944
- Scale: 7.383512656866077E7
-
Level ID: 3
[ Start Tile, End Tile ]
- Resolution: 32046.431813544972
- Scale: 3.691756328433038E7
-
Level ID: 4
[ Start Tile, End Tile ]
- Resolution: 16023.215906772486
- Scale: 1.845878164216519E7
-
Level ID: 5
[ Start Tile, End Tile ]
- Resolution: 8011.607953386243
- Scale: 9229390.821082596
-
Level ID: 6
[ Start Tile, End Tile ]
- Resolution: 4005.8039766931215
- Scale: 4614695.410541298
-
Level ID: 7
[ Start Tile, End Tile ]
- Resolution: 2002.9019883465608
- Scale: 2307347.705270649
-
Level ID: 8
[ Start Tile, End Tile ]
- Resolution: 1001.4509941732804
- Scale: 1153673.8526353245
-
Level ID: 9
[ Start Tile, End Tile ]
- Resolution: 500.7254970866402
- Scale: 576836.9263176622
-
Level ID: 10
[ Start Tile, End Tile ]
- Resolution: 250.3627485433201
- Scale: 288418.4631588311
-
Level ID: 11
[ Start Tile, End Tile ]
- Resolution: 125.18137427166005
- Scale: 144209.23157941556
-
Level ID: 12
[ Start Tile, End Tile ]
- Resolution: 62.590687135830024
- Scale: 72104.61578970778
-
Level ID: 13
[ Start Tile, End Tile ]
- Resolution: 31.295343567915012
- Scale: 36052.30789485389
-
Level ID: 14
[ Start Tile, End Tile ]
- Resolution: 15.647671783957506
- Scale: 18026.153947426945
-
Level ID: 15
[ Start Tile, End Tile ]
- Resolution: 7.823835891978753
- Scale: 9013.076973713472
-
Level ID: 16
[ Start Tile, End Tile ]
- Resolution: 3.9119179459893765
- Scale: 4506.538486856736
-
Level ID: 17
[ Start Tile, End Tile ]
- Resolution: 1.9559589729946882
- Scale: 2253.269243428368
-
Level ID: 18
[ Start Tile, End Tile ]
- Resolution: 0.9779794864973441
- Scale: 1126.634621714184
- Format: PNG
- Compression Quality: 0.0
- Origin: X: -3.255354617107005E7
Y: 1.709229250460601E7
- Spatial Reference: 103458
(103458)
Initial Extent:
XMin: 178157.7010839522
YMin: 149704.6950979749
XMax: 246538.25831071922
YMax: 205591.93970709475
Spatial Reference: 103458
(103458)
Full Extent:
XMin: 188220.135969162
YMin: 134655.66751390696
XMax: 248091.71537274495
YMax: 203074.4942586571
Spatial Reference: 103458
(103458)
Units: esriFeet
Supported Image Format Types: PNG32,PNG24,PNG,JPG,DIB,TIFF,EMF,PS,PDF,GIF,SVG,SVGZ,BMP
Document Info:
Title: Trolley Routes
Author:
Comments:
Subject:
Category:
Keywords: basemap
AntialiasingMode: Fast
TextAntialiasingMode: Force
Supports Dynamic Layers: true
MaxRecordCount: 2000
MaxImageHeight: 4096
MaxImageWidth: 4096
Supported Query Formats: JSON, geoJSON, PBF
Supports Query Data Elements: true
Min Scale: 144209.23157941556
Max Scale: 1126.634621714184
Min LOD: 11
Max LOD: 18
Supports Datum Transformation: true
Child Resources:
Info
Dynamic Layer
Supported Operations:
Export Map
Identify
QueryDomains
QueryLegends
Find
Return Updates